BEGIN:VCALENDAR
VERSION:2.0
PRODID:-//Stone Family Foundation//Family Calendar//EN
CALSCALE:GREGORIAN
METHOD:PUBLISH
X-WR-CALNAME:Stone Family Foundation
X-WR-CALDESC:Stone family gatherings, milestones, and shared events.
X-WR-TIMEZONE:America/Denver
BEGIN:VEVENT
UID:pedal-for-empathy-may-2026@stonefamilyfoundation.com
DTSTAMP:20260423T013319Z
SUMMARY:Pedal for Empathy Ride
DTSTART;TZID=America/Denver:20260502T090000
DTEND;TZID=America/Denver:20260502T100000
LOCATION:Rapid City\, SD
DESCRIPTION:Annual community bike ride honoring empathy and connection. Open to the whole family — all ages\, all abilities. Rory and Nicole leading. A chance for Tanner\, Dylan\, and Bella to see what it looks like to show up for your community.
DESCRIPTION:Annual community bike ride honoring empathy and connection. Open to the whole family — all ages\, all abilities. Rory and Nicole leading. A chance for Tanner\, Dylan\, and Bella to see what it looks like to show up for your community. Hosted by Stone Bicycle Coalition
END:VEVENT
BEGIN:VEVENT
UID:mothers-day-2026@stonefamilyfoundation.com
DTSTAMP:20260423T013319Z
SUMMARY:Mother's Day
DTSTART;VALUE=DATE:20260510
DTEND;VALUE=DATE:20260511
LOCATION:Rapid City\, SD
DESCRIPTION:Honoring Nicole\, Bridget\, and the mothers in both families. A day to show up and say it out loud.
DESCRIPTION:Honoring Nicole\, Bridget\, and the mothers in both families. A day to show up and say it out loud. Hosted by Rory & Nicole
END:VEVENT
BEGIN:VEVENT
UID:memorial-day-gathering-2026@stonefamilyfoundation.com
DTSTAMP:20260423T013319Z
SUMMARY:Memorial Day Gathering
DTSTART;VALUE=DATE:20260525
DTEND;VALUE=DATE:20260526
LOCATION:Rapid City\, SD
DESCRIPTION:Annual gathering. [Rory: fill in location and host details]
DESCRIPTION:Annual gathering. [Rory: fill in location and host details] Hosted by TBD
END:VEVENT
BEGIN:VEVENT
UID:summer-solstice-2026@stonefamilyfoundation.com
DTSTAMP:20260423T013319Z
SUMMARY:Summer Solstice Gathering
DTSTART;VALUE=DATE:20260620
DTEND;VALUE=DATE:20260621
LOCATION:Rapid City\, SD
DESCRIPTION:All families invited. The longest day of the year — a natural moment to gather\, acknowledge the season\, and celebrate what we're building together. [Rory: confirm location and details]
DESCRIPTION:All families invited. The longest day of the year — a natural moment to gather\, acknowledge the season\, and celebrate what we're building together. [Rory: confirm location and details] Hosted by Rory & Nicole
END:VEVENT
BEGIN:VEVENT
UID:fourth-of-july-2026@stonefamilyfoundation.com
DTSTAMP:20260423T013319Z
SUMMARY:4th of July
DTSTART;VALUE=DATE:20260704
DTEND;VALUE=DATE:20260705
LOCATION:Rapid City\, SD
DESCRIPTION:[Rory: fill in plans]
END:VEVENT
BEGIN:VEVENT
UID:back-to-school-2026@stonefamilyfoundation.com
DTSTAMP:20260423T013319Z
SUMMARY:Back to School — Youth Check-In
DTSTART;VALUE=DATE:20260815
DTEND;VALUE=DATE:20260816
LOCATION:Rapid City\, SD
DESCRIPTION:Annual touchpoint with Tanner\, Dylan\, and Bella as a new school year begins. What are their goals? What do they need? How can the family support them? [Rory: confirm date — this is the week before RCAS typically starts]
DESCRIPTION:Annual touchpoint with Tanner\, Dylan\, and Bella as a new school year begins. What are their goals? What do they need? How can the family support them? [Rory: confirm date — this is the week before RCAS typically starts] Hosted by Rory & Nicole
END:VEVENT
BEGIN:VEVENT
UID:fall-equinox-harvest-2026@stonefamilyfoundation.com
DTSTAMP:20260423T013319Z
SUMMARY:Harvest Gathering
DTSTART;VALUE=DATE:20260922
DTEND;VALUE=DATE:20260923
LOCATION:Rapid City\, SD
DESCRIPTION:Fall equinox gathering — honoring the season of harvest and preparation. All families welcome. [Rory: confirm plans]
DESCRIPTION:Fall equinox gathering — honoring the season of harvest and preparation. All families welcome. [Rory: confirm plans] Hosted by TBD
END:VEVENT
BEGIN:VEVENT
UID:thanksgiving-2026@stonefamilyfoundation.com
DTSTAMP:20260423T013319Z
SUMMARY:Thanksgiving
DTSTART;VALUE=DATE:20261126
DTEND;VALUE=DATE:20261127
LOCATION:Rapid City\, SD
DESCRIPTION:[Rory: fill in host and location]
DESCRIPTION:[Rory: fill in host and location] Hosted by TBD
END:VEVENT
BEGIN:VEVENT
UID:christmas-2026@stonefamilyfoundation.com
DTSTAMP:20260423T013319Z
SUMMARY:Christmas
DTSTART;VALUE=DATE:20261225
DTEND;VALUE=DATE:20261226
LOCATION:Rapid City\, SD
DESCRIPTION:[Rory: fill in plans]
DESCRIPTION:[Rory: fill in plans] Hosted by TBD
END:VEVENT
BEGIN:VEVENT
UID:new-year-2027@stonefamilyfoundation.com
DTSTAMP:20260423T013319Z
SUMMARY:New Year — Family Intentions
DTSTART;VALUE=DATE:20270101
DTEND;VALUE=DATE:20270102
LOCATION:Rapid City\, SD
DESCRIPTION:A tradition Rory and Nicole want to build: gathering the family at the start of each year to share what we're building\, what we're letting go\, and where we're pointing ourselves. Simple. Honest. Annual.
DESCRIPTION:A tradition Rory and Nicole want to build: gathering the family at the start of each year to share what we're building\, what we're letting go\, and where we're pointing ourselves. Simple. Honest. Annual. Hosted by Rory & Nicole
END:VEVENT
BEGIN:VEVENT
UID:spring-equinox-2027@stonefamilyfoundation.com
DTSTAMP:20260423T013319Z
SUMMARY:Spring Equinox — Family Ride
DTSTART;VALUE=DATE:20270320
DTEND;VALUE=DATE:20270321
LOCATION:Rapid City\, SD
DESCRIPTION:New tradition: first ride of the season with family. [Rory: confirm plans]
DESCRIPTION:New tradition: first ride of the season with family. [Rory: confirm plans] Hosted by Stone Bicycle Coalition
END:VEVENT
END:VCALENDAR